
BEGIN:VCALENDAR
VERSION:2.0
PRODID:-//GKEF-FGDA - ECPv6.15.20//NONSGML v1.0//EN
CALSCALE:GREGORIAN
METHOD:PUBLISH
X-WR-CALNAME:GKEF-FGDA
X-ORIGINAL-URL:https://www.gkef-fgda.org/eu/
X-WR-CALDESC:Events for GKEF-FGDA
REFRESH-INTERVAL;VALUE=DURATION:PT1H
X-Robots-Tag:noindex
X-PUBLISHED-TTL:PT1H
BEGIN:VTIMEZONE
TZID:Europe/Madrid
BEGIN:DAYLIGHT
TZOFFSETFROM:+0100
TZOFFSETTO:+0200
TZNAME:CEST
DTSTART:20220327T010000
END:DAYLIGHT
BEGIN:STANDARD
TZOFFSETFROM:+0200
TZOFFSETTO:+0100
TZNAME:CET
DTSTART:20221030T010000
END:STANDARD
BEGIN:DAYLIGHT
TZOFFSETFROM:+0100
TZOFFSETTO:+0200
TZNAME:CEST
DTSTART:20230326T010000
END:DAYLIGHT
BEGIN:STANDARD
TZOFFSETFROM:+0200
TZOFFSETTO:+0100
TZNAME:CET
DTSTART:20231029T010000
END:STANDARD
BEGIN:DAYLIGHT
TZOFFSETFROM:+0100
TZOFFSETTO:+0200
TZNAME:CEST
DTSTART:20240331T010000
END:DAYLIGHT
BEGIN:STANDARD
TZOFFSETFROM:+0200
TZOFFSETTO:+0100
TZNAME:CET
DTSTART:20241027T010000
END:STANDARD
BEGIN:DAYLIGHT
TZOFFSETFROM:+0100
TZOFFSETTO:+0200
TZNAME:CEST
DTSTART:20250330T010000
END:DAYLIGHT
BEGIN:STANDARD
TZOFFSETFROM:+0200
TZOFFSETTO:+0100
TZNAME:CET
DTSTART:20251026T010000
END:STANDARD
BEGIN:DAYLIGHT
TZOFFSETFROM:+0100
TZOFFSETTO:+0200
TZNAME:CEST
DTSTART:20260329T010000
END:DAYLIGHT
BEGIN:STANDARD
TZOFFSETFROM:+0200
TZOFFSETTO:+0100
TZNAME:CET
DTSTART:20261025T010000
END:STANDARD
END:VTIMEZONE
BEGIN:VEVENT
DTSTART;TZID=Europe/Madrid:20251115T160000
DTEND;TZID=Europe/Madrid:20251115T190000
DTSTAMP:20260420T051429
CREATED:20251029T100358Z
LAST-MODIFIED:20251111T083237Z
UID:10000045-1763222400-1763233200@www.gkef-fgda.org
SUMMARY:GIPUZKOAKO SLALOM TXAPELKETA GURPIL AULKIAN
DESCRIPTION:Gipuzkoako Slalom Txapelketa\n\n\n2025ko azaroak 15\n\n\n\nLasarte Oria\, Michelin Pilotalekua \n\n\n\nORDUTEGIA: 16:00 (15:30 beroketa)\n\n\n\n\n\nIZEN-EMATEAK: 2025ko azaroaren 11ra arte\, 12:00ak baino lehen.\n\n\nAtxikita dituzuen dokumentuetan informazio gehiago aurkituko duzue\, baita izen-ematea egiteko prozedura. Informazio gehiago: www.gkef-fgda.org/eu/kirolak/slalom/\n\n\n\n  \nOSTADAR SKT \nSLALOM
URL:https://www.gkef-fgda.org/eu/evento/campeonato-gipuzkoa-de-slalom-en-silla-de-ruedas/
LOCATION:Michelin pilotalekua\, Geltoki kalea\, 22\, Lasarte-Oria\, Gipuzkoa\, 20160\, España
CATEGORIES:Bestelako kirol jarduerak, lehiaketak,Slalom-a
ATTACH;FMTTYPE=image/jpeg:https://www.gkef-fgda.org/wp-content/uploads/2025/10/2025_SL_TX-scaled.jpg
ORGANIZER;CN="Gipuzkoako Kirol Egokituen Federazioa":MAILTO:info@gkef-fgda.org
END:VEVENT
BEGIN:VEVENT
DTSTART;TZID=Europe/Madrid:20250524T110000
DTEND;TZID=Europe/Madrid:20250524T140000
DTSTAMP:20260420T051429
CREATED:20250429T101548Z
LAST-MODIFIED:20250429T102935Z
UID:10000033-1748084400-1748095200@www.gkef-fgda.org
SUMMARY:ESKOLA KIROL EGOKITUA (EKE) IKASURTE AMAIERAKO JAIA 2025
DESCRIPTION:*Jarduera ITXIA. EKE programaren erabiltzaileentzat bakarrik \nLekua: Frontoia\, Aduna \nOrdutegia: 11:00-14:00 \n 
URL:https://www.gkef-fgda.org/eu/evento/eskola-kirol-egokitua-eke-ikasurte-amaierako-jaia-2025/
LOCATION:Frontón Aduna\, Herriko Plaza\, 4\, Aduna\, Gipuzkoa\, 20150\, Spain
CATEGORIES:Bestelako jarduerak, lehiaketarik gabekoa,Jarduerak
END:VEVENT
BEGIN:VEVENT
DTSTART;TZID=Europe/Madrid:20241214T090000
DTEND;TZID=Europe/Madrid:20241214T140000
DTSTAMP:20260420T051429
CREATED:20241203T072041Z
LAST-MODIFIED:20241203T072041Z
UID:10000021-1734166800-1734184800@www.gkef-fgda.org
SUMMARY:DRAGON BOAT EGOKITUA SAIOA
DESCRIPTION:DRAGON BOAT EGOKITUA SAIOA \n \nInformazio gehiago: www.hs2.es
URL:https://www.gkef-fgda.org/eu/evento/dragon-boat-egokitua-saioa/
LOCATION:Kalea \, 3\, Gabarrari kalea\, 3\, Hondarribia\, Gipuzkoa\, 20280\, Spain
CATEGORIES:Arrauna,Bestelako jarduerak, lehiaketarik gabekoa,Jarduerak,Kirolak,Surfa
ORGANIZER;CN="HS2 SURF CENTER":MAILTO:hs2@hs2.es
END:VEVENT
BEGIN:VEVENT
DTSTART;VALUE=DATE:20230204
DTEND;VALUE=DATE:20230205
DTSTAMP:20260420T051429
CREATED:20230123T123848Z
LAST-MODIFIED:20230123T123848Z
UID:10000003-1675468800-1675555199@www.gkef-fgda.org
SUMMARY:EUSKAL PILOTA EGOKITUko TOPAKETA - Elgoibar
DESCRIPTION:EUSKAL PILOTA EGOKITUKO PALETA TOPAKETA \nData: 2023ko otsailak 4 \nOrdua: 10:30etan \nNon: Ikastola Frontoia (Elgoibar) \nDesgaitasuna duten gazteei eta umeak zuzenduta. \nAdina: 14 urtetik aurrera \nDoako jarduera\, parte hartzeko\, jarri harremanetan hauekin: eskolaegokituak@gkef-fgda.org \n \nANTOLATZAILEAK / ORGANIZADORES \nGEPE\, Gipuzkoako Kirol Egokituko Federazioa\n \nInformazio gehiago hemen
URL:https://www.gkef-fgda.org/eu/evento/euskal-pilota-egokituko-topaketa-elgoibar/
LOCATION:Fronton Ikastola\, Ermuaranbide Kalea\, 7\, Elgoibar\, Gipuzkoa\, 20870\, España
CATEGORIES:Bestelako jarduerak, lehiaketarik gabekoa,Euskal pilota,Kirolak
END:VEVENT
END:VCALENDAR